BEGIN:VCALENDAR
VERSION:2.0
CALSCALE:GREGORIAN
PRODID:adamgibbons/ics
METHOD:PUBLISH
X-PUBLISHED-TTL:PT1H
BEGIN:VEVENT
UID:9431@calendari.cc
SUMMARY:Prosa de foc
DTSTAMP:20260423T153903Z
DTSTART:20260425T100000Z
DTEND:20260425T200000Z
URL:https://calendari.cc/event/prosa-de-foc
GEO:41.401;2.15733
LOCATION:L'Hort de Ka la Trava - 154\, Travessera de Gràcia\, Gràcia\, Barc
	elona\, 08012
STATUS:CONFIRMED
CATEGORIES:Gràcia,paradetes de llibres,presentacióLlibre,SantJordi
END:VEVENT
END:VCALENDAR
